BEGIN:VCALENDAR
VERSION:2.0
PRODID:-//Connecticut Education Association - ECPv6.15.20//NONSGML v1.0//EN
CALSCALE:GREGORIAN
METHOD:PUBLISH
X-ORIGINAL-URL:https://cea.org
X-WR-CALDESC:Events for Connecticut Education Association
REFRESH-INTERVAL;VALUE=DURATION:PT1H
X-Robots-Tag:noindex
X-PUBLISHED-TTL:PT1H
BEGIN:VTIMEZONE
TZID:America/New_York
BEGIN:DAYLIGHT
TZOFFSETFROM:-0500
TZOFFSETTO:-0400
TZNAME:EDT
DTSTART:20240310T070000
END:DAYLIGHT
BEGIN:STANDARD
TZOFFSETFROM:-0400
TZOFFSETTO:-0500
TZNAME:EST
DTSTART:20241103T060000
END:STANDARD
BEGIN:DAYLIGHT
TZOFFSETFROM:-0500
TZOFFSETTO:-0400
TZNAME:EDT
DTSTART:20250309T070000
END:DAYLIGHT
BEGIN:STANDARD
TZOFFSETFROM:-0400
TZOFFSETTO:-0500
TZNAME:EST
DTSTART:20251102T060000
END:STANDARD
BEGIN:DAYLIGHT
TZOFFSETFROM:-0500
TZOFFSETTO:-0400
TZNAME:EDT
DTSTART:20260308T070000
END:DAYLIGHT
BEGIN:STANDARD
TZOFFSETFROM:-0400
TZOFFSETTO:-0500
TZNAME:EST
DTSTART:20261101T060000
END:STANDARD
END:VTIMEZONE
BEGIN:VEVENT
DTSTART;VALUE=DATE:20251204
DTEND;VALUE=DATE:20251205
DTSTAMP:20260423T113635
CREATED:20230821T184247Z
LAST-MODIFIED:20250911T182730Z
UID:10001750-1764806400-1764892799@cea.org
SUMMARY:Finance Committee Meeting
DESCRIPTION:Finance Committee Meeting
URL:https://cea.org/event/finance-cmte-1242025/
CATEGORIES:CEA Events
END:VEVENT
BEGIN:VEVENT
DTSTART;TZID=America/New_York:20251204T100000
DTEND;TZID=America/New_York:20251204T140000
DTSTAMP:20260423T113635
CREATED:20241031T191910Z
LAST-MODIFIED:20251028T174206Z
UID:10001944-1764842400-1764856800@cea.org
SUMMARY:CEA-Retired Holiday Open House
DESCRIPTION:Please join us on the third floor at CEA for a Holiday Open House and enjoy some holiday cheer.  There will be wrapping of holiday bear gifts\,  a delicious hot cocoa bar and eggnog\,  holiday sweet treats to share for those interested\, and time to enjoy each other’s company.  Lunch will be served.  Come anytime between 10:00-1:30 (we will wrap up at 2pm) and stay for as long or as short as you can! Space is limited so RSVP today! \nRegister Today
URL:https://cea.org/event/cea-retired-holiday-open-house/
LOCATION:CEA\, 21 Oak St.\, Hartford\, CT\, 06106\, United States
CATEGORIES:CEA Events,Retired Events
END:VEVENT
BEGIN:VEVENT
DTSTART;TZID=America/New_York:20251204T170000
DTEND;TZID=America/New_York:20251204T190000
DTSTAMP:20260423T113635
CREATED:20251002T190653Z
LAST-MODIFIED:20251125T180506Z
UID:10002098-1764867600-1764874800@cea.org
SUMMARY:Tolland County Engagement
DESCRIPTION:I am a...Please select...\nEducator\nCounty Officer\nCEA Staff\n\n\n\nFull Name\n\n\nEmail\n\n\nLocal Association\n\n\n\n\nlocal president notification\n\n\n\n\nJanuary 19\nMarch 29\n\n\nChoose a Date\n\n\n\n\n\n\nI acknowledge a $10 chargeYesNo\n\nMust pay $10 to attend.\n\n\nName on Card\n\n\nCard Number\n\n\nMM\n\n\nYY\n\n\nCode\n\n\nTotal Cost
URL:https://cea.org/event/tolland-county-engagement/
LOCATION:Golf Lounge 18\, 401 Evergreen Way\, South Windsor\, 06074\, United States
CATEGORIES:CEA Events,County Forums,Tolland County Forum
END:VEVENT
END:VCALENDAR