BEGIN:VCALENDAR
VERSION:2.0
PRODID:-//Connecticut Education Association - ECPv6.15.20//NONSGML v1.0//EN
CALSCALE:GREGORIAN
METHOD:PUBLISH
X-WR-CALNAME:Connecticut Education Association
X-ORIGINAL-URL:https://cea.org
X-WR-CALDESC:Events for Connecticut Education Association
REFRESH-INTERVAL;VALUE=DURATION:PT1H
X-Robots-Tag:noindex
X-PUBLISHED-TTL:PT1H
BEGIN:VTIMEZONE
TZID:America/New_York
BEGIN:DAYLIGHT
TZOFFSETFROM:-0500
TZOFFSETTO:-0400
TZNAME:EDT
DTSTART:20250309T070000
END:DAYLIGHT
BEGIN:STANDARD
TZOFFSETFROM:-0400
TZOFFSETTO:-0500
TZNAME:EST
DTSTART:20251102T060000
END:STANDARD
BEGIN:DAYLIGHT
TZOFFSETFROM:-0500
TZOFFSETTO:-0400
TZNAME:EDT
DTSTART:20260308T070000
END:DAYLIGHT
BEGIN:STANDARD
TZOFFSETFROM:-0400
TZOFFSETTO:-0500
TZNAME:EST
DTSTART:20261101T060000
END:STANDARD
BEGIN:DAYLIGHT
TZOFFSETFROM:-0500
TZOFFSETTO:-0400
TZNAME:EDT
DTSTART:20270314T070000
END:DAYLIGHT
BEGIN:STANDARD
TZOFFSETFROM:-0400
TZOFFSETTO:-0500
TZNAME:EST
DTSTART:20271107T060000
END:STANDARD
END:VTIMEZONE
BEGIN:VEVENT
DTSTART;TZID=America/New_York:20260506T173000
DTEND;TZID=America/New_York:20260506T190000
DTSTAMP:20260419T232542
CREATED:20260409T193112Z
LAST-MODIFIED:20260410T194849Z
UID:10002141-1778088600-1778094000@cea.org
SUMMARY:Aspiring Educator Mock Interview Workshop
DESCRIPTION:MEMBER AUTHENTICATION REQUIRED\nPlease enter your CEA Membership ID below. \n\nYour membership ID is on your membership card that you received at the start of the school year. It can also be found on the label of your CEA Advisor. \nIf you do not have your ID\, you can access it by logging into NEA Ed Communities. First-time visitors must create a personal profile. \n\n\nIf you are still experiencing problems logging in\, contact our web team.\n\n        \n            \n				Username or Email Address\n				\n			 \n				Password\n				\n			  Remember Me
URL:https://cea.org/event/mock-interview-workshop/
LOCATION:CEA- 3rd Floor Conference Room\, 21 Oak Street\, Hartford\, 06106\, United States
CATEGORIES:Aspiring Educator,CEA Events
END:VEVENT
END:VCALENDAR