BEGIN:VCALENDAR
VERSION:2.0
PRODID:-//Connecticut Education Association - ECPv6.15.20//NONSGML v1.0//EN
CALSCALE:GREGORIAN
METHOD:PUBLISH
X-WR-CALNAME:Connecticut Education Association
X-ORIGINAL-URL:https://cea.org
X-WR-CALDESC:Events for Connecticut Education Association
REFRESH-INTERVAL;VALUE=DURATION:PT1H
X-Robots-Tag:noindex
X-PUBLISHED-TTL:PT1H
BEGIN:VTIMEZONE
TZID:America/New_York
BEGIN:DAYLIGHT
TZOFFSETFROM:-0500
TZOFFSETTO:-0400
TZNAME:EDT
DTSTART:20250309T070000
END:DAYLIGHT
BEGIN:STANDARD
TZOFFSETFROM:-0400
TZOFFSETTO:-0500
TZNAME:EST
DTSTART:20251102T060000
END:STANDARD
BEGIN:DAYLIGHT
TZOFFSETFROM:-0500
TZOFFSETTO:-0400
TZNAME:EDT
DTSTART:20260308T070000
END:DAYLIGHT
BEGIN:STANDARD
TZOFFSETFROM:-0400
TZOFFSETTO:-0500
TZNAME:EST
DTSTART:20261101T060000
END:STANDARD
BEGIN:DAYLIGHT
TZOFFSETFROM:-0500
TZOFFSETTO:-0400
TZNAME:EDT
DTSTART:20270314T070000
END:DAYLIGHT
BEGIN:STANDARD
TZOFFSETFROM:-0400
TZOFFSETTO:-0500
TZNAME:EST
DTSTART:20271107T060000
END:STANDARD
END:VTIMEZONE
BEGIN:VEVENT
DTSTART;VALUE=DATE:20260428
DTEND;VALUE=DATE:20260429
DTSTAMP:20260426T002638
CREATED:20241121T185752Z
LAST-MODIFIED:20260206T210944Z
UID:10001958-1777334400-1777420799@cea.org
SUMMARY:New London Retired County Meeting (Spring)
DESCRIPTION:Additional information regarding the location and time of the Spring meetings will be forthcoming.
URL:https://cea.org/event/new-london-retired-county-meeting-spring/
CATEGORIES:CEA Events,Meeting,Retired Events
END:VEVENT
BEGIN:VEVENT
DTSTART;VALUE=DATE:20260430
DTEND;VALUE=DATE:20260501
DTSTAMP:20260426T002638
CREATED:20241121T192547Z
LAST-MODIFIED:20260206T210647Z
UID:10001963-1777507200-1777593599@cea.org
SUMMARY:Middlesex Retired County Meeting (Spring)
DESCRIPTION:Additional information regarding the location and time of the Spring meetings will be forthcoming.
URL:https://cea.org/event/middlesex-retired-county-meeting-spring/
CATEGORIES:CEA Events,Meeting,Retired Events
END:VEVENT
BEGIN:VEVENT
DTSTART;TZID=America/New_York:20260521T180000
DTEND;TZID=America/New_York:20260521T190000
DTSTAMP:20260426T002638
CREATED:20240130T181436Z
LAST-MODIFIED:20251217T201808Z
UID:10002126-1779386400-1779390000@cea.org
SUMMARY:Racial & Ethnic Diversity Affairs Commission Meeting
DESCRIPTION:[vc_row][vc_column][vc_column_text css=””][/vc_column_text][/vc_column][/vc_row]
URL:https://cea.org/event/racial-and-ethnic-diversity-affairs-commission-meeting/2026-05-21/
LOCATION:Virtual\, CT\, United States
CATEGORIES:CEA Events,Meeting
END:VEVENT
BEGIN:VEVENT
DTSTART;TZID=America/New_York:20260611T170000
DTEND;TZID=America/New_York:20260611T190000
DTSTAMP:20260426T002638
CREATED:20250911T174656Z
LAST-MODIFIED:20260219T171028Z
UID:10001552-1781197200-1781204400@cea.org
SUMMARY:Board of Directors Meeting
DESCRIPTION:
URL:https://cea.org/event/board-of-directors-meeting-4/
LOCATION:CEA- 3rd Floor Conference Room\, 21 Oak Street\, Hartford\, 06106\, United States
CATEGORIES:Board of Directors,Meeting
END:VEVENT
BEGIN:VEVENT
DTSTART;TZID=America/New_York:20260713T073000
DTEND;TZID=America/New_York:20260713T193000
DTSTAMP:20260426T002638
CREATED:20231206T204910Z
LAST-MODIFIED:20260415T151949Z
UID:10001872-1783927800-1783971000@cea.org
SUMMARY:CEF Hands Across the Green Golf Tournament
DESCRIPTION:
URL:https://cea.networkforgood.com/events/100318-hands-across-the-green-golf-tournament-2026
LOCATION:Glastonbury Hills Country Club\, 239 Country Club Rd.\, South Glastonbury\, CT
CATEGORIES:Aspiring Educator,Board of Directors,CEA Events,CEA Pride,Meeting,Retired Events
END:VEVENT
END:VCALENDAR