BEGIN:VCALENDAR
VERSION:2.0
PRODID:-//Connecticut Education Association - ECPv6.15.20//NONSGML v1.0//EN
CALSCALE:GREGORIAN
METHOD:PUBLISH
X-ORIGINAL-URL:https://cea.org
X-WR-CALDESC:Events for Connecticut Education Association
REFRESH-INTERVAL;VALUE=DURATION:PT1H
X-Robots-Tag:noindex
X-PUBLISHED-TTL:PT1H
BEGIN:VTIMEZONE
TZID:America/New_York
BEGIN:DAYLIGHT
TZOFFSETFROM:-0500
TZOFFSETTO:-0400
TZNAME:EDT
DTSTART:20250309T070000
END:DAYLIGHT
BEGIN:STANDARD
TZOFFSETFROM:-0400
TZOFFSETTO:-0500
TZNAME:EST
DTSTART:20251102T060000
END:STANDARD
BEGIN:DAYLIGHT
TZOFFSETFROM:-0500
TZOFFSETTO:-0400
TZNAME:EDT
DTSTART:20260308T070000
END:DAYLIGHT
BEGIN:STANDARD
TZOFFSETFROM:-0400
TZOFFSETTO:-0500
TZNAME:EST
DTSTART:20261101T060000
END:STANDARD
BEGIN:DAYLIGHT
TZOFFSETFROM:-0500
TZOFFSETTO:-0400
TZNAME:EDT
DTSTART:20270314T070000
END:DAYLIGHT
BEGIN:STANDARD
TZOFFSETFROM:-0400
TZOFFSETTO:-0500
TZNAME:EST
DTSTART:20271107T060000
END:STANDARD
END:VTIMEZONE
BEGIN:VEVENT
DTSTART;TZID=America/New_York:20260217T170000
DTEND;TZID=America/New_York:20260217T180000
DTSTAMP:20260423T060335
CREATED:20230822T181017Z
LAST-MODIFIED:20250911T172842Z
UID:10001766-1771347600-1771351200@cea.org
SUMMARY:Executive Committee Meeting
DESCRIPTION:
URL:https://cea.org/event/executive-committee/
CATEGORIES:CEA Events,Executive Committee
END:VEVENT
BEGIN:VEVENT
DTSTART;TZID=America/New_York:20260218T100000
DTEND;TZID=America/New_York:20260218T110000
DTSTAMP:20260423T060335
CREATED:20251126T140243Z
LAST-MODIFIED:20251127T001908Z
UID:10002110-1771408800-1771412400@cea.org
SUMMARY:Middlesex Retired County Meeting (Winter)
DESCRIPTION:[vc_row][vc_column][vc_column_text css=””]All Winter meetings will be virtual via Zoom\, starting at 10 AM. Members should look for emails from their county directors for times and details. \nPlease contact Ana Batista batistaana12@gmail.com for meeting details or questions.[/vc_column_text][/vc_column][/vc_row]
URL:https://cea.org/event/middlesex-retired-county-meeting-winter/
CATEGORIES:CEA Events,Meeting,Retired Events
END:VEVENT
BEGIN:VEVENT
DTSTART;TZID=America/New_York:20260218T100000
DTEND;TZID=America/New_York:20260218T110000
DTSTAMP:20260423T060335
CREATED:20251126T140623Z
LAST-MODIFIED:20251127T001644Z
UID:10002111-1771408800-1771412400@cea.org
SUMMARY:New Haven Retired County Meeting (Winter)
DESCRIPTION:[vc_row][vc_column][vc_column_text css=””]All Winter meetings will be virtual via Zoom\, starting at 10 AM. Members should look for emails from their county directors for times and details. \nPlease contact Ana Batista at batistaana12@gmail.com for meeting details or questions.[/vc_column_text][/vc_column][/vc_row]
URL:https://cea.org/event/new-haven-retired-county-meeting-winter/
CATEGORIES:CEA Events,Meeting,Retired Events
END:VEVENT
BEGIN:VEVENT
DTSTART;TZID=America/New_York:20260219T180000
DTEND;TZID=America/New_York:20260219T193000
DTSTAMP:20260423T060335
CREATED:20221004T134707Z
LAST-MODIFIED:20260217T212601Z
UID:10001514-1771524000-1771529400@cea.org
SUMMARY:Member Benefits Committee
DESCRIPTION:
URL:https://cea.org/event/member-benefits-committee/
LOCATION:Virtual\, CT\, United States
CATEGORIES:CEA Events
END:VEVENT
BEGIN:VEVENT
DTSTART;VALUE=DATE:20260221
DTEND;VALUE=DATE:20260222
DTSTAMP:20260423T060335
CREATED:20230824T190526Z
LAST-MODIFIED:20251210T144537Z
UID:10001775-1771632000-1771718399@cea.org
SUMMARY:Aspiring Educator Read Across America (Mystic)
DESCRIPTION:Aspiring Educator Read Across America (Mystic)
URL:https://cea.org/event/ae-read-across-2282025/
LOCATION:Mystic Aquarium\, 55 Coogan Blvd.\, Mystic\, CT\, 06355\, United States
CATEGORIES:Aspiring Educator,CEA Events
END:VEVENT
END:VCALENDAR