BEGIN:VCALENDAR
VERSION:2.0
PRODID:-//Connecticut Education Association - ECPv6.15.20//NONSGML v1.0//EN
CALSCALE:GREGORIAN
METHOD:PUBLISH
X-ORIGINAL-URL:https://cea.org
X-WR-CALDESC:Events for Connecticut Education Association
REFRESH-INTERVAL;VALUE=DURATION:PT1H
X-Robots-Tag:noindex
X-PUBLISHED-TTL:PT1H
BEGIN:VTIMEZONE
TZID:America/New_York
BEGIN:DAYLIGHT
TZOFFSETFROM:-0500
TZOFFSETTO:-0400
TZNAME:EDT
DTSTART:20210314T070000
END:DAYLIGHT
BEGIN:STANDARD
TZOFFSETFROM:-0400
TZOFFSETTO:-0500
TZNAME:EST
DTSTART:20211107T060000
END:STANDARD
BEGIN:DAYLIGHT
TZOFFSETFROM:-0500
TZOFFSETTO:-0400
TZNAME:EDT
DTSTART:20220313T070000
END:DAYLIGHT
BEGIN:STANDARD
TZOFFSETFROM:-0400
TZOFFSETTO:-0500
TZNAME:EST
DTSTART:20221106T060000
END:STANDARD
BEGIN:DAYLIGHT
TZOFFSETFROM:-0500
TZOFFSETTO:-0400
TZNAME:EDT
DTSTART:20230312T070000
END:DAYLIGHT
BEGIN:STANDARD
TZOFFSETFROM:-0400
TZOFFSETTO:-0500
TZNAME:EST
DTSTART:20231105T060000
END:STANDARD
BEGIN:DAYLIGHT
TZOFFSETFROM:-0500
TZOFFSETTO:-0400
TZNAME:EDT
DTSTART:20240310T070000
END:DAYLIGHT
BEGIN:STANDARD
TZOFFSETFROM:-0400
TZOFFSETTO:-0500
TZNAME:EST
DTSTART:20241103T060000
END:STANDARD
END:VTIMEZONE
BEGIN:VEVENT
DTSTART;TZID=America/New_York:20231030T170000
DTEND;TZID=America/New_York:20231030T190000
DTSTAMP:20260425T225925
CREATED:20231019T152645Z
LAST-MODIFIED:20231019T152645Z
UID:10001848-1698685200-1698692400@cea.org
SUMMARY:Retirement Committee
DESCRIPTION:MEMBER AUTHENTICATION REQUIRED\nPlease enter your CEA Membership ID below. \n\nYour membership ID is on your membership card that you received at the start of the school year. It can also be found on the label of your CEA Advisor. \nIf you do not have your ID\, you can access it by logging into NEA Ed Communities. First-time visitors must create a personal profile. \n\n\nIf you are still experiencing problems logging in\, contact our web team.\n\n        \n            \n				Username or Email Address\n				\n			 \n				Password\n				\n			  Remember Me
URL:https://cea.org/event/retirement-committee/
LOCATION:Virtual\, CT\, United States
END:VEVENT
BEGIN:VEVENT
DTSTART;TZID=America/New_York:20230607T180000
DTEND;TZID=America/New_York:20230607T193000
DTSTAMP:20260425T225925
CREATED:20230525T150306Z
LAST-MODIFIED:20230525T150306Z
UID:10001676-1686160800-1686166200@cea.org
SUMMARY:Cancel Your Student Loan Debt: Waivers\, credits\, and forgiveness for educators
DESCRIPTION:MEMBER AUTHENTICATION REQUIRED\nPlease enter your CEA Membership ID below. \n\nYour membership ID is on your membership card that you received at the start of the school year. It can also be found on the label of your CEA Advisor. \nIf you do not have your ID\, you can access it by logging into NEA Ed Communities. First-time visitors must create a personal profile. \n\n\nIf you are still experiencing problems logging in\, contact our web team.\n\n        \n            \n				Username or Email Address\n				\n			 \n				Password\n				\n			  Remember Me
URL:https://cea.org/event/cancel-your-student-loan-debt-june7/
LOCATION:Virtual\, CT\, United States
CATEGORIES:CEA Events
END:VEVENT
BEGIN:VEVENT
DTSTART;TZID=America/New_York:20230523T183000
DTEND;TZID=America/New_York:20230523T200000
DTSTAMP:20260425T225925
CREATED:20230323T165603Z
LAST-MODIFIED:20230413T185940Z
UID:10001660-1684866600-1684872000@cea.org
SUMMARY:Cancel Your Student Loan Debt: Waivers\, credits\, and forgiveness for educators
DESCRIPTION:MEMBER AUTHENTICATION REQUIRED\nPlease enter your CEA Membership ID below. \n\nYour membership ID is on your membership card that you received at the start of the school year. It can also be found on the label of your CEA Advisor. \nIf you do not have your ID\, you can access it by logging into NEA Ed Communities. First-time visitors must create a personal profile. \n\n\nIf you are still experiencing problems logging in\, contact our web team.\n\n        \n            \n				Username or Email Address\n				\n			 \n				Password\n				\n			  Remember Me
URL:https://cea.org/event/student-loan-relief-may23/
LOCATION:Virtual\, CT\, United States
CATEGORIES:CEA Events
END:VEVENT
BEGIN:VEVENT
DTSTART;TZID=America/New_York:20230518T170000
DTEND;TZID=America/New_York:20230518T183000
DTSTAMP:20260425T225925
CREATED:20230306T174251Z
LAST-MODIFIED:20230328T140336Z
UID:10001641-1684429200-1684434600@cea.org
SUMMARY:Playful Learning: The Work of Childhood
DESCRIPTION:MEMBER AUTHENTICATION REQUIRED\nPlease enter your CEA Membership ID below. \n\nYour membership ID is on your membership card that you received at the start of the school year. It can also be found on the label of your CEA Advisor. \nIf you do not have your ID\, you can access it by logging into NEA Ed Communities. First-time visitors must create a personal profile. \n\n\nIf you are still experiencing problems logging in\, contact our web team.\n\n        \n            \n				Username or Email Address\n				\n			 \n				Password\n				\n			  Remember Me
URL:https://cea.org/event/playful-learning/
LOCATION:Virtual\, CT\, United States
CATEGORIES:CEA Events
ATTACH;FMTTYPE=image/jpeg:https://cea.org/wp-content/uploads/2023/03/Playful-Learning-The-Work-of-Childhood-620x350px-image.jpg
END:VEVENT
BEGIN:VEVENT
DTSTART;TZID=America/New_York:20230509T170000
DTEND;TZID=America/New_York:20230509T173000
DTSTAMP:20260425T225925
CREATED:20230413T132132Z
LAST-MODIFIED:20230413T174852Z
UID:10001668-1683651600-1683653400@cea.org
SUMMARY:Alliance District Loan Subsidy Program Webinar
DESCRIPTION:MEMBER AUTHENTICATION REQUIRED\nPlease enter your CEA Membership ID below. \n\nYour membership ID is on your membership card that you received at the start of the school year. It can also be found on the label of your CEA Advisor. \nIf you do not have your ID\, you can access it by logging into NEA Ed Communities. First-time visitors must create a personal profile. \n\n\nIf you are still experiencing problems logging in\, contact our web team.\n\n        \n            \n				Username or Email Address\n				\n			 \n				Password\n				\n			  Remember Me
URL:https://cea.org/event/alliance-district-loan-webinar/
LOCATION:Virtual\, CT\, United States
CATEGORIES:CEA Events
END:VEVENT
BEGIN:VEVENT
DTSTART;TZID=America/New_York:20230503T190000
DTEND;TZID=America/New_York:20230503T200000
DTSTAMP:20260425T225925
CREATED:20221110T195917Z
LAST-MODIFIED:20230105T162938Z
UID:10001598-1683140400-1683144000@cea.org
SUMMARY:Teacher Well-Being Support Group
DESCRIPTION:MEMBER AUTHENTICATION REQUIRED\nPlease enter your CEA Membership ID below. \n\nYour membership ID is on your membership card that you received at the start of the school year. It can also be found on the label of your CEA Advisor. \nIf you do not have your ID\, you can access it by logging into NEA Ed Communities. First-time visitors must create a personal profile. \n\n\nIf you are still experiencing problems logging in\, contact our web team.\n\n        \n            \n				Username or Email Address\n				\n			 \n				Password\n				\n			  Remember Me
URL:https://cea.org/event/teacher-well-being-support-group/2023-05-03/
LOCATION:Virtual\, CT\, United States
CATEGORIES:Mental Health Events
END:VEVENT
BEGIN:VEVENT
DTSTART;TZID=America/New_York:20230503T183000
DTEND;TZID=America/New_York:20230503T200000
DTSTAMP:20260425T225925
CREATED:20230323T165323Z
LAST-MODIFIED:20230413T181941Z
UID:10001659-1683138600-1683144000@cea.org
SUMMARY:Cancel Your Student Loan Debt Webinar
DESCRIPTION:MEMBER AUTHENTICATION REQUIRED\nPlease enter your CEA Membership ID below. \n\nYour membership ID is on your membership card that you received at the start of the school year. It can also be found on the label of your CEA Advisor. \nIf you do not have your ID\, you can access it by logging into NEA Ed Communities. First-time visitors must create a personal profile. \n\n\nIf you are still experiencing problems logging in\, contact our web team.\n\n        \n            \n				Username or Email Address\n				\n			 \n				Password\n				\n			  Remember Me
URL:https://cea.org/event/student-loan-webinar-may3/
LOCATION:Virtual\, CT\, United States
CATEGORIES:CEA Events
END:VEVENT
BEGIN:VEVENT
DTSTART;TZID=America/New_York:20230405T170000
DTEND;TZID=America/New_York:20230405T190000
DTSTAMP:20260425T225925
CREATED:20230217T150605Z
LAST-MODIFIED:20230317T141449Z
UID:10001627-1680714000-1680721200@cea.org
SUMMARY:All Member Budget Forum
DESCRIPTION:MEMBER AUTHENTICATION REQUIRED\nPlease enter your CEA Membership ID below. \n\nYour membership ID is on your membership card that you received at the start of the school year. It can also be found on the label of your CEA Advisor. \nIf you do not have your ID\, you can access it by logging into NEA Ed Communities. First-time visitors must create a personal profile. \n\n\nIf you are still experiencing problems logging in\, contact our web team.\n\n        \n            \n				Username or Email Address\n				\n			 \n				Password\n				\n			  Remember Me
URL:https://cea.org/event/all-member-budget-forum/
LOCATION:Virtual\, CT\, United States
CATEGORIES:CEA Events
END:VEVENT
BEGIN:VEVENT
DTSTART;TZID=America/New_York:20230328T170000
DTEND;TZID=America/New_York:20230328T190000
DTSTAMP:20260425T225925
CREATED:20230207T202508Z
LAST-MODIFIED:20230323T161404Z
UID:10001619-1680022800-1680030000@cea.org
SUMMARY:123…Eyes on Me Workshop
DESCRIPTION:MEMBER AUTHENTICATION REQUIRED\nPlease enter your CEA Membership ID below. \n\nYour membership ID is on your membership card that you received at the start of the school year. It can also be found on the label of your CEA Advisor. \nIf you do not have your ID\, you can access it by logging into NEA Ed Communities. First-time visitors must create a personal profile. \n\n\nIf you are still experiencing problems logging in\, contact our web team.\n\n        \n            \n				Username or Email Address\n				\n			 \n				Password\n				\n			  Remember Me
URL:https://cea.org/event/hartford-county-workshop-march28/
LOCATION:Virtual\, CT\, United States
CATEGORIES:CEA Events
ATTACH;FMTTYPE=image/jpeg:https://cea.org/wp-content/uploads/2023/02/1-2-3-Eyes-on-me-620x350px-image.jpg
END:VEVENT
BEGIN:VEVENT
DTSTART;TZID=America/New_York:20230308T190000
DTEND;TZID=America/New_York:20230308T200000
DTSTAMP:20260425T225925
CREATED:20230105T163000Z
LAST-MODIFIED:20230105T163018Z
UID:10001599-1678302000-1678305600@cea.org
SUMMARY:Teacher Well-Being Support Group
DESCRIPTION:MEMBER AUTHENTICATION REQUIRED\nPlease enter your CEA Membership ID below. \n\nYour membership ID is on your membership card that you received at the start of the school year. It can also be found on the label of your CEA Advisor. \nIf you do not have your ID\, you can access it by logging into NEA Ed Communities. First-time visitors must create a personal profile. \n\n\nIf you are still experiencing problems logging in\, contact our web team.\n\n        \n            \n				Username or Email Address\n				\n			 \n				Password\n				\n			  Remember Me
URL:https://cea.org/event/teacher-well-being-support-group-3/
LOCATION:Virtual\, CT\, United States
CATEGORIES:Mental Health Events
END:VEVENT
BEGIN:VEVENT
DTSTART;TZID=America/New_York:20230307T170000
DTEND;TZID=America/New_York:20230307T180000
DTSTAMP:20260425T225925
CREATED:20230202T182506Z
LAST-MODIFIED:20230222T211127Z
UID:10001615-1678208400-1678212000@cea.org
SUMMARY:Local President Budget Forum
DESCRIPTION:MEMBER AUTHENTICATION REQUIRED\nPlease enter your CEA Membership ID below. \n\nYour membership ID is on your membership card that you received at the start of the school year. It can also be found on the label of your CEA Advisor. \nIf you do not have your ID\, you can access it by logging into NEA Ed Communities. First-time visitors must create a personal profile. \n\n\nIf you are still experiencing problems logging in\, contact our web team.\n\n        \n            \n				Username or Email Address\n				\n			 \n				Password\n				\n			  Remember Me
URL:https://cea.org/event/budget-forum/
LOCATION:Virtual\, CT\, United States
CATEGORIES:Meeting
END:VEVENT
BEGIN:VEVENT
DTSTART;TZID=America/New_York:20230228T180000
DTEND;TZID=America/New_York:20230228T190000
DTSTAMP:20260425T225925
CREATED:20230206T193746Z
LAST-MODIFIED:20230206T193746Z
UID:10001617-1677607200-1677610800@cea.org
SUMMARY:CEA-PAC
DESCRIPTION:MEMBER AUTHENTICATION REQUIRED\nPlease enter your CEA Membership ID below. \n\nYour membership ID is on your membership card that you received at the start of the school year. It can also be found on the label of your CEA Advisor. \nIf you do not have your ID\, you can access it by logging into NEA Ed Communities. First-time visitors must create a personal profile. \n\n\nIf you are still experiencing problems logging in\, contact our web team.\n\n        \n            \n				Username or Email Address\n				\n			 \n				Password\n				\n			  Remember Me
URL:https://cea.org/event/cea-pac/
LOCATION:Virtual\, CT\, United States
END:VEVENT
BEGIN:VEVENT
DTSTART;TZID=America/New_York:20230228T170000
DTEND;TZID=America/New_York:20230228T190000
DTSTAMP:20260425T225925
CREATED:20210728T184432Z
LAST-MODIFIED:20220818T211436Z
UID:10001303-1677603600-1677610800@cea.org
SUMMARY:Local Presidents Meeting
DESCRIPTION:MEMBER AUTHENTICATION REQUIRED\nPlease enter your CEA Membership ID below. \n\nYour membership ID is on your membership card that you received at the start of the school year. It can also be found on the label of your CEA Advisor. \nIf you do not have your ID\, you can access it by logging into NEA Ed Communities. First-time visitors must create a personal profile. \n\n\nIf you are still experiencing problems logging in\, contact our web team.\n\n        \n            \n				Username or Email Address\n				\n			 \n				Password\n				\n			  Remember Me
URL:https://cea.org/event/local-presidents-meeting/2023-02-28/
LOCATION:Virtual\, CT\, United States
CATEGORIES:Meeting,Presidents Forum
END:VEVENT
BEGIN:VEVENT
DTSTART;TZID=America/New_York:20230216T170000
DTEND;TZID=America/New_York:20230216T203000
DTSTAMP:20260425T225925
CREATED:20230209T202949Z
LAST-MODIFIED:20230209T202949Z
UID:10001621-1676566800-1676579400@cea.org
SUMMARY:Resolutions
DESCRIPTION:MEMBER AUTHENTICATION REQUIRED\nPlease enter your CEA Membership ID below. \n\nYour membership ID is on your membership card that you received at the start of the school year. It can also be found on the label of your CEA Advisor. \nIf you do not have your ID\, you can access it by logging into NEA Ed Communities. First-time visitors must create a personal profile. \n\n\nIf you are still experiencing problems logging in\, contact our web team.\n\n        \n            \n				Username or Email Address\n				\n			 \n				Password\n				\n			  Remember Me
URL:https://cea.org/event/resolutions-2/
LOCATION:Virtual\, CT\, United States
END:VEVENT
BEGIN:VEVENT
DTSTART;TZID=America/New_York:20230119T170000
DTEND;TZID=America/New_York:20230119T190000
DTSTAMP:20260425T225925
CREATED:20230109T135946Z
LAST-MODIFIED:20230109T135946Z
UID:10001606-1674147600-1674154800@cea.org
SUMMARY:Resolutions
DESCRIPTION:MEMBER AUTHENTICATION REQUIRED\nPlease enter your CEA Membership ID below. \n\nYour membership ID is on your membership card that you received at the start of the school year. It can also be found on the label of your CEA Advisor. \nIf you do not have your ID\, you can access it by logging into NEA Ed Communities. First-time visitors must create a personal profile. \n\n\nIf you are still experiencing problems logging in\, contact our web team.\n\n        \n            \n				Username or Email Address\n				\n			 \n				Password\n				\n			  Remember Me
URL:https://cea.org/event/resolutions/
LOCATION:Virtual\, CT\, United States
END:VEVENT
BEGIN:VEVENT
DTSTART;TZID=America/New_York:20230104T190000
DTEND;TZID=America/New_York:20230104T200000
DTSTAMP:20260425T225925
CREATED:20230105T162536Z
LAST-MODIFIED:20230105T162537Z
UID:10001596-1672858800-1672862400@cea.org
SUMMARY:Teacher Well-Being Support Group
DESCRIPTION:MEMBER AUTHENTICATION REQUIRED\nPlease enter your CEA Membership ID below. \n\nYour membership ID is on your membership card that you received at the start of the school year. It can also be found on the label of your CEA Advisor. \nIf you do not have your ID\, you can access it by logging into NEA Ed Communities. First-time visitors must create a personal profile. \n\n\nIf you are still experiencing problems logging in\, contact our web team.\n\n        \n            \n				Username or Email Address\n				\n			 \n				Password\n				\n			  Remember Me
URL:https://cea.org/event/teacher-well-being-support-group-2/
LOCATION:Virtual\, CT\, United States
CATEGORIES:Mental Health Events
END:VEVENT
BEGIN:VEVENT
DTSTART;TZID=America/New_York:20221207T100000
DTEND;TZID=America/New_York:20221207T150000
DTSTAMP:20260425T225925
CREATED:20221129T165025Z
LAST-MODIFIED:20221129T165025Z
UID:10001565-1670407200-1670425200@cea.org
SUMMARY:Constitution Revision
DESCRIPTION:MEMBER AUTHENTICATION REQUIRED\nPlease enter your CEA Membership ID below. \n\nYour membership ID is on your membership card that you received at the start of the school year. It can also be found on the label of your CEA Advisor. \nIf you do not have your ID\, you can access it by logging into NEA Ed Communities. First-time visitors must create a personal profile. \n\n\nIf you are still experiencing problems logging in\, contact our web team.\n\n        \n            \n				Username or Email Address\n				\n			 \n				Password\n				\n			  Remember Me
URL:https://cea.org/event/constitution-revision-2/
LOCATION:Virtual\, CT\, United States
END:VEVENT
BEGIN:VEVENT
DTSTART;TZID=America/New_York:20221117T180000
DTEND;TZID=America/New_York:20221117T193000
DTSTAMP:20260425T225925
CREATED:20221110T164101Z
LAST-MODIFIED:20221110T164101Z
UID:10001558-1668708000-1668713400@cea.org
SUMMARY:Retirement Commission
DESCRIPTION:MEMBER AUTHENTICATION REQUIRED\nPlease enter your CEA Membership ID below. \n\nYour membership ID is on your membership card that you received at the start of the school year. It can also be found on the label of your CEA Advisor. \nIf you do not have your ID\, you can access it by logging into NEA Ed Communities. First-time visitors must create a personal profile. \n\n\nIf you are still experiencing problems logging in\, contact our web team.\n\n        \n            \n				Username or Email Address\n				\n			 \n				Password\n				\n			  Remember Me
URL:https://cea.org/event/retirement-commission/
LOCATION:Virtual\, CT\, United States
END:VEVENT
BEGIN:VEVENT
DTSTART;TZID=America/New_York:20221115T170000
DTEND;TZID=America/New_York:20221115T190000
DTSTAMP:20260425T225925
CREATED:20221020T181936Z
LAST-MODIFIED:20221020T181936Z
UID:10001524-1668531600-1668538800@cea.org
SUMMARY:Constitution Revision
DESCRIPTION:MEMBER AUTHENTICATION REQUIRED\nPlease enter your CEA Membership ID below. \n\nYour membership ID is on your membership card that you received at the start of the school year. It can also be found on the label of your CEA Advisor. \nIf you do not have your ID\, you can access it by logging into NEA Ed Communities. First-time visitors must create a personal profile. \n\n\nIf you are still experiencing problems logging in\, contact our web team.\n\n        \n            \n				Username or Email Address\n				\n			 \n				Password\n				\n			  Remember Me
URL:https://cea.org/event/constitution-revision/
LOCATION:Virtual\, CT\, United States
END:VEVENT
BEGIN:VEVENT
DTSTART;TZID=America/New_York:20220928T170000
DTEND;TZID=America/New_York:20220928T190000
DTSTAMP:20260425T225925
CREATED:20210728T184432Z
LAST-MODIFIED:20220818T211436Z
UID:10001302-1664384400-1664391600@cea.org
SUMMARY:Local Presidents Meeting
DESCRIPTION:MEMBER AUTHENTICATION REQUIRED\nPlease enter your CEA Membership ID below. \n\nYour membership ID is on your membership card that you received at the start of the school year. It can also be found on the label of your CEA Advisor. \nIf you do not have your ID\, you can access it by logging into NEA Ed Communities. First-time visitors must create a personal profile. \n\n\nIf you are still experiencing problems logging in\, contact our web team.\n\n        \n            \n				Username or Email Address\n				\n			 \n				Password\n				\n			  Remember Me
URL:https://cea.org/event/local-presidents-meeting/2022-09-28/
LOCATION:Virtual\, CT\, United States
CATEGORIES:Meeting,Presidents Forum
END:VEVENT
BEGIN:VEVENT
DTSTART;TZID=America/New_York:20220922T180000
DTEND;TZID=America/New_York:20220922T190000
DTSTAMP:20260425T225925
CREATED:20220907T134444Z
LAST-MODIFIED:20220907T134444Z
UID:10001452-1663869600-1663873200@cea.org
SUMMARY:CEA PAC
DESCRIPTION:MEMBER AUTHENTICATION REQUIRED\nPlease enter your CEA Membership ID below. \n\nYour membership ID is on your membership card that you received at the start of the school year. It can also be found on the label of your CEA Advisor. \nIf you do not have your ID\, you can access it by logging into NEA Ed Communities. First-time visitors must create a personal profile. \n\n\nIf you are still experiencing problems logging in\, contact our web team.\n\n        \n            \n				Username or Email Address\n				\n			 \n				Password\n				\n			  Remember Me
URL:https://cea.org/event/cea-pac-9/
LOCATION:Virtual\, CT\, United States
END:VEVENT
END:VCALENDAR